BEGIN:VCALENDAR
VERSION:2.0
PRODID:-//ChamberMaster//Event Calendar 2.0//EN
METHOD:PUBLISH
X-PUBLISHED-TTL:P3D
REFRESH-INTERVAL:P3D
CALSCALE:GREGORIAN
BEGIN:VEVENT
DTSTART:20220201T160000Z
DTEND:20220201T173000Z
X-MICROSOFT-CDO-ALLDAYEVENT:FALSE
SUMMARY:Understanding QuickBooks Online
DESCRIPTION:Stay on top of where your money is going! Join us for our free webinar\, 'Understanding QuickBooks Online'\, hosted by Lindsey Horvath! Learn to securely import bank and credit card transactions\, track your income and expenses and more.\n\nThis is a beginners course and\, as such\, advanced topics such as multijurisdictional activity and foreign exchange are beyond the scope of this course.\n\n\n\nRegister below:\n\n\n\nhttps://www.eventbrite.ca/e/understanding-quickbooks-online-logan-katz-learning-series-tickets-241355900997
X-ALT-DESC;FMTTYPE=text/html:<p>Stay on top of where your money is going! Join us for our free webinar\, &lsquo\;Understanding QuickBooks Online&rsquo\;\, hosted by Lindsey Horvath! Learn to securely import bank and credit card transactions\, track your income and expenses and more.</p>\n\n<p>This is a beginners course and\, as such\, advanced topics such as multijurisdictional activity and foreign exchange are beyond the scope of this course.<br />\n<br />\nRegister below:<br />\n<br />\nhttps://www.eventbrite.ca/e/understanding-quickbooks-online-logan-katz-learning-series-tickets-241355900997</p>\n
LOCATION:
UID:e.3330.2653
SEQUENCE:3
DTSTAMP:20260422T021218Z
URL:http://ottawaboardoftrade.chambermaster.com/events/details/understanding-quickbooks-online-2653
END:VEVENT

END:VCALENDAR
