BEGIN:VCALENDAR
VERSION:2.0
PRODID:-//ChamberMaster//Event Calendar 2.0//EN
METHOD:PUBLISH
X-PUBLISHED-TTL:P3D
REFRESH-INTERVAL:P3D
CALSCALE:GREGORIAN
BEGIN:VEVENT
DTSTART:20211108T180000Z
DTEND:20211108T193000Z
X-MICROSOFT-CDO-ALLDAYEVENT:FALSE
SUMMARY:Exporting 101
DESCRIPTION:Exporting 101: learn the basics of the exporting process\n\nWebinar presented by Ottawa Board of Trade member Christian Sivi re of Solimpex
X-ALT-DESC;FMTTYPE=text/html:Exporting 101: learn the basics of the exporting process<br />\nWebinar presented by Ottawa Board of Trade member Christian Sivi&egrave\;re of Solimpex
LOCATION:Online
UID:e.3330.2635
SEQUENCE:3
DTSTAMP:20260425T201558Z
URL:http://ottawaboardoftrade.chambermaster.com/events/details/exporting-101-11-08-2021-2635
END:VEVENT

END:VCALENDAR
