BEGIN:VCALENDAR
VERSION:2.0
PRODID:-//ChamberMaster//Event Calendar 2.0//EN
METHOD:PUBLISH
X-PUBLISHED-TTL:P3D
REFRESH-INTERVAL:P3D
CALSCALE:GREGORIAN
BEGIN:VEVENT
DTSTART:20221020T230000Z
DTEND:20221021T003000Z
X-MICROSOFT-CDO-ALLDAYEVENT:FALSE
SUMMARY:COMMON GROUND - Mayoral Debate
DESCRIPTION:United Way East Ontario\, Ottawa Board of Trade\, and Ottawa and District Labour Council\, in partnership with Carleton University\, is hosting a head-to-head mayoral debate between Catherine McKenney and Mark Sutcliffe on Thursday\, October 20\, at Carleton University's Dominion-Chalmers Centre. CLICK HERE TO REGISTER\n\n \n\nTogether\, our organizations believe that economic development\, social justice\, and labour rights are intertwined. We want to know how each of Ottawa's top-polling mayoral candidates plan to tackle key issues such as community trust\, landmark infrastructure\, and affordable housing through this lens. Tackling multi-faceted municipal issues requires collaboration\, consensus building\, compromise\, and vision.\n\n \n\nJoin us\, with moderation from CTV Ottawa's Graham Richardson and 580 CFRA's Kristy Cameron\, as we dive deeper into how each of our top mayoral candidates plans to make Ottawa a better place for everyone.\n\n\n\nThis debate will be livestreamed with American Sign Language interpretation. Click here to learn about venue accessibility.
X-ALT-DESC;FMTTYPE=text/html:<p font-variant-ligatures:="" helvetica="" neue="" orphans:="" style="font-size: 16px\; margin: 0px\; padding: 0px\; box-sizing: border-box\; color: rgb(111\, 114\, 135)\; line-height: 1.5rem\; font-family: " text-decoration-thickness:="" widows:=""><span style="font-size:16px\;"><span style="color:#000000\;"><span style="font-family:arial\;">United Way East Ontario\, Ottawa Board of Trade\, and Ottawa and District Labour Council\, in partnership with Carleton University\, is hosting a head-to-head mayoral debate between Catherine McKenney and Mark Sutcliffe on Thursday\, October 20\, at Carleton University&rsquo\;s Dominion-Chalmers Centre. <strong><a href="https://www.eventbrite.ca/e/common-ground-ottawa-mayoral-candidates-debate-tickets-441241624577">CLICK HERE TO REGISTER</a></strong></span></span></span></p>\n\n<p font-variant-ligatures:="" helvetica="" neue="" orphans:="" style="font-size: 16px\; margin: 0px\; padding: 0px\; box-sizing: border-box\; color: rgb(111\, 114\, 135)\; line-height: 1.5rem\; font-family: " text-decoration-thickness:="" widows:="">&nbsp\;</p>\n\n<p font-variant-ligatures:="" helvetica="" neue="" orphans:="" style="font-size: 16px\; margin: 0px\; padding: 10px 0px 0px\; box-sizing: border-box\; color: rgb(111\, 114\, 135)\; line-height: 1.5rem\; font-family: " text-decoration-thickness:="" widows:=""><span style="font-size:16px\;"><span style="color:#000000\;"><span style="font-family:arial\;">Together\, our organizations believe that economic development\, social justice\, and labour rights are intertwined. We want to know how each of Ottawa&rsquo\;s top-polling mayoral candidates plan to tackle key issues such as community trust\, landmark infrastructure\, and affordable housing through this lens.&nbsp\;</span></span></span><span style="font-size:16px\;"><span style="color:#000000\;"><span style="font-family:arial\;">Tackling multi-faceted municipal issues requires collaboration\, consensus building\, compromise\, and vision.</span></span></span><br />\n&nbsp\;</p>\n\n<p font-variant-ligatures:="" helvetica="" neue="" orphans:="" style="font-size: 16px\; margin: 0px\; padding: 10px 0px 0px\; box-sizing: border-box\; color: rgb(111\, 114\, 135)\; line-height: 1.5rem\; font-family: " text-decoration-thickness:="" widows:=""><span style="font-size:16px\;"><span style="color:#000000\;"><span style="font-family:arial\;">Join us\, with moderation from CTV Ottawa&rsquo\;s Graham Richardson and 580 CFRA&#39\;s Kristy Cameron\, as we dive deeper into how each of our top mayoral candidates plans to make Ottawa a better place for everyone.</span></span></span></p>\n\n<p font-variant-ligatures:="" helvetica="" neue="" orphans:="" style="font-size: 16px\; margin: 0px\; padding: 10px 0px 0px\; box-sizing: border-box\; color: rgb(111\, 114\, 135)\; line-height: 1.5rem\; font-family: " text-decoration-thickness:="" widows:=""><br />\n<span style="font-size:16px\;"><span style="font-family:arial\;"><span style="color:#000000\;">This debate will be livestreamed with American Sign Language interpretation.</span>&nbsp\;<a href="https://carleton.ca/cdcc/visiting/" rel="nofollow noopener noreferrer" style="text-decoration: none\; color: var(--eds-control\,#3659e3)\; cursor: pointer\; box-sizing: border-box\; padding-top: 0px\;" target="_blank">Click here</a>&nbsp\;<span style="color:#000000\;">to learn about venue accessibility.</span></span></span></p>\n
LOCATION:Carleton Dominion-Chalmers Centre 355 Cooper Street Ottawa\, ON K2P 0G8
UID:e.3330.3608
SEQUENCE:3
DTSTAMP:20260425T130229Z
URL:http://ottawaboardoftrade.chambermaster.com/events/details/common-ground-mayoral-debate-3608
END:VEVENT

END:VCALENDAR
