BEGIN:VCALENDAR
VERSION:2.0
PRODID:-//ChamberMaster//Event Calendar 2.0//EN
METHOD:PUBLISH
X-PUBLISHED-TTL:P3D
REFRESH-INTERVAL:P3D
CALSCALE:GREGORIAN
BEGIN:VEVENT
DTSTART:20230321T160000Z
DTEND:20230321T170000Z
X-MICROSOFT-CDO-ALLDAYEVENT:FALSE
SUMMARY:Aftermath of Ransomware - Hosted by Klavan Security
DESCRIPTION:Organizations of all sizes are becoming aware of what the typical ransomware attack means: public shaming\, news coverage\, extortion and a whole lot of private data being shared publicly.\n\n\n\nWhat we know for certain is\, ransomware attacks have significant and negative consequences on businesses\, resulting in the loss of sensitive data\, as well as causing operational downtime. If losses in revenue wasn't enough\, some organizations are also forced to pay large sums of money to regain access to their data and to prevent it from being published for all to see.\n\n\n\nOther damages and costs:\n\n\n\n- Reputational damage\n\n- Regulatory fines\n\n- Loss of clients and new business\n\n- Strategic setbacks\n\n\n\nSoooo\, let's say...your organization just "recovered" from a ransomware attack. System are up and running\, business is operating as it used to.\n\n\n\n"We've dealt with the attack and now we can relax!" - says the organization.\n\n\n\n"Nope\, sorry!" - Says everyone else.\n\n\n\nJoin me as we discuss :\n\n\n\n- What is ransomware?\n\n- What you and your organization can do to better protect yourselves and your organizations from ransomware.\n\n- What does the aftermath of ransomware mean for all involved?\n\n\n\nBrought to you by KlavanSecurity.com - "Helping individuals and organizations level up their overall security stance!"
X-ALT-DESC;FMTTYPE=text/html:Organizations of all sizes are becoming aware of what the typical ransomware attack means: public shaming\, news coverage\, extortion and a whole lot of private data being shared publicly.<br />\n<br />\nWhat we know for certain is\, ransomware attacks have significant and negative consequences on businesses\, resulting in the loss of sensitive data\, as well as causing operational downtime. If losses in revenue wasn&#39\;t enough\, some organizations are also forced to pay large sums of money to regain access to their data and to prevent it from being published for all to see.<br />\n<br />\nOther damages and costs:<br />\n<br />\n- Reputational damage<br />\n- Regulatory fines<br />\n- Loss of clients and new business<br />\n- Strategic setbacks<br />\n<br />\nSoooo\, let&#39\;s say...your organization just &quot\;recovered&quot\; from a ransomware attack. System are up and running\, business is operating as it used to.<br />\n<br />\n&quot\;We&#39\;ve dealt with the attack and now we can relax!&quot\; - says the organization.<br />\n<br />\n&quot\;Nope\, sorry!&quot\; - Says everyone else.<br />\n<br />\nJoin me as we discuss :<br />\n<br />\n- What is ransomware?<br />\n- What you and your organization can do to better protect yourselves and your organizations from ransomware.<br />\n- What does the aftermath of ransomware mean for all involved?<br />\n<br />\nBrought to you by KlavanSecurity.com - &quot\;Helping individuals and organizations level up their overall security stance!&quot\;<br />\n<br />\n&nbsp\;
LOCATION:https://lnkd.in/gmEBvXQg
UID:e.3330.3674
SEQUENCE:3
DTSTAMP:20260419T233724Z
URL:http://ottawaboardoftrade.chambermaster.com/events/details/aftermath-of-ransomware-hosted-by-klavan-security-3674
END:VEVENT

END:VCALENDAR
